BEGIN:VCALENDAR
VERSION:2.0
PRODID:-//ChamberMaster//Event Calendar 2.0//EN
METHOD:PUBLISH
X-PUBLISHED-TTL:P3D
REFRESH-INTERVAL:P3D
CALSCALE:GREGORIAN
BEGIN:VEVENT
DTSTART:20190505T180000Z
DTEND:20190505T193000Z
X-MICROSOFT-CDO-ALLDAYEVENT:FALSE
SUMMARY:40th Annual Pops Concert
DESCRIPTION:Featuring the Orange Community Band. Conducted by Steph Parker.
X-ALT-DESC;FMTTYPE=text/html:Featuring the Orange Community Band. Conducted by Steph Parker.&nbsp\;
LOCATION:Orange Town Hall ast Main Street\, Orange
UID:e.2182.14608
SEQUENCE:3
DTSTAMP:20260425T185857Z
URL:http://franklinccdev.chambermaster.com/events/details/40th-annual-pops-concert-14608
END:VEVENT

END:VCALENDAR
