BEGIN:VCALENDAR
VERSION:2.0
PRODID:-//ChamberMaster//Event Calendar 2.0//EN
METHOD:PUBLISH
X-PUBLISHED-TTL:P3D
REFRESH-INTERVAL:P3D
CALSCALE:GREGORIAN
BEGIN:VEVENT
DTSTART;VALUE=DATE:20190413
DTEND;VALUE=DATE:20190414
TRANSP:TRANSPARENT
X-MICROSOFT-CDO-ALLDAYEVENT:TRUE
SUMMARY:56th Annual River Rat Race
DESCRIPTION:Nothing says more fun (and mud) then the annual River Rat Race from Athol to Orange. Open to all - no canoe over 18 fee in lenght.\n\nSunday - Pro Race begins at 10:00 a.\,.
X-ALT-DESC;FMTTYPE=text/html:Nothing says more fun (and mud) then the annual River Rat Race from Athol to Orange. Open to all - no canoe over 18 fee in lenght.<br />\nSunday - Pro Race begins at 10:00 a.\,.
LOCATION:Athol to Orange
UID:e.2182.14947
SEQUENCE:3
DTSTAMP:20260426T035331Z
URL:http://franklinccdev.chambermaster.com/events/details/56th-annual-river-rat-race-14947
END:VEVENT

END:VCALENDAR
