BEGIN:VCALENDAR
VERSION:2.0
PRODID:-//ChamberMaster//Event Calendar 2.0//EN
METHOD:PUBLISH
X-PUBLISHED-TTL:P3D
REFRESH-INTERVAL:P3D
CALSCALE:GREGORIAN
BEGIN:VEVENT
DTSTART;VALUE=DATE:20200131
DTEND;VALUE=DATE:20200201
TRANSP:TRANSPARENT
X-MICROSOFT-CDO-ALLDAYEVENT:TRUE
SUMMARY:98th Annual Winter Carnival
DESCRIPTION:"There's Snow Place Like Home" - events all over Greenfield\, all weekend long!\n\nFireworks (Friday evening)\n\nIce Sculptures\n\nGlow Party \n\nParade of Lights\n\nSleigh Bell Run\n\nFamily Fun Fest\n\nBreakfast with Olaf\n\nCribbage Tournament\n\nVintage Snowmobiles\n\nK9 Keg Pull\n\nChili Cook Off\n\nand much more.\n\nFor a complete Schedule go to:  www.greenfieldrecreation.com/wintercarnival
X-ALT-DESC;FMTTYPE=text/html:&quot\;There&#39\;s Snow Place Like Home&quot\; - events all over Greenfield\, all weekend long!<br />\nFireworks (Friday evening)<br />\nIce Sculptures<br />\nGlow Party&nbsp\;<br />\nParade of Lights<br />\nSleigh Bell Run<br />\nFamily Fun Fest<br />\nBreakfast with Olaf<br />\nCribbage Tournament<br />\nVintage Snowmobiles<br />\nK9 Keg Pull<br />\nChili Cook Off<br />\nand much more.<br />\nFor a complete Schedule go to:&nbsp\; <a href="http://www.greenfieldrecreation.com/wintercarniva">www.greenfieldrecreation.com/wintercarniva</a>l
LOCATION:All over Greenfield
UID:e.2182.16018
SEQUENCE:3
DTSTAMP:20260424T171531Z
URL:http://franklinccdev.chambermaster.com/events/details/98th-annual-winter-carnival-16018
END:VEVENT

END:VCALENDAR
