BEGIN:VCALENDAR
VERSION:2.0
PRODID:-//ChamberMaster//Event Calendar 2.0//EN
METHOD:PUBLISH
X-PUBLISHED-TTL:P3D
REFRESH-INTERVAL:P3D
CALSCALE:GREGORIAN
BEGIN:VEVENT
DTSTART:20191109T140000Z
DTEND:20191110T170000Z
X-MICROSOFT-CDO-ALLDAYEVENT:FALSE
SUMMARY:A Country Christmas
DESCRIPTION:The fair will offer unique country crafts\, sewn\, crocheted and knitted items\, hand-made dolls\, hand-painted Christmas ornaments and home d cor\, Stained glass works\, home-made candies and bake goods\, Attic Treasures\, themed gift baskets\, Buckland's famous J. G. Haigis Baloney and Tea Cup Auction. A big raffle will round out the offerings. A delicious choice of lunch items will be available of Saturday. Get Your Christmas shopping done early! For more information call (413) 625-6405.\n\nPresented by St. Joseph Parish of Shelburne Falls.
X-ALT-DESC;FMTTYPE=text/html:The fair will offer unique country crafts\, sewn\, crocheted and knitted items\, hand-made dolls\, hand-painted Christmas ornaments and home d&eacute\;cor\, Stained glass works\, home-made candies and bake goods\, Attic Treasures\, themed gift baskets\, Buckland&rsquo\;s famous J. G. Haigis Baloney and Tea Cup Auction. A big raffle will round out the offerings. A delicious choice of lunch items will be available of Saturday. Get Your Christmas shopping done early! For more information call (413) 625-6405.<br />\nPresented by&nbsp\;St. Joseph Parish of Shelburne Falls.
LOCATION:Shelburne-Buckland Community Center 53 Main Street\, Shelburne Falls MA
UID:e.2182.15504
SEQUENCE:3
DTSTAMP:20260424T175411Z
URL:http://franklinccdev.chambermaster.com/events/details/a-country-christmas-15504
END:VEVENT

END:VCALENDAR
