BEGIN:VCALENDAR
VERSION:2.0
PRODID:-//ChamberMaster//Event Calendar 2.0//EN
METHOD:PUBLISH
X-PUBLISHED-TTL:P3D
REFRESH-INTERVAL:P3D
CALSCALE:GREGORIAN
BEGIN:VEVENT
DTSTART:20190614T230000Z
DTEND:20190615T003000Z
X-MICROSOFT-CDO-ALLDAYEVENT:FALSE
SUMMARY:Activist/Author John Pavlovitz
DESCRIPTION:JOHN PAVLOVITZ Nationally-Known Author & Activist Alumni Recital Hall Redfern Arts Center Keene State College\, Keene\, NH "Finding Hope in Difficult Days" Speaking/Q&A/Book Signing Free Admission\, A Gift to the Community To Reserve Your Ticket: https://www.eventbrite.com/e/an-evening-with-john-pavlovitz-tickets-60217074892
X-ALT-DESC;FMTTYPE=text/html:JOHN PAVLOVITZ Nationally-Known Author &amp\; Activist Alumni Recital Hall Redfern Arts Center Keene State College\, Keene\, NH &ldquo\;Finding Hope in Difficult Days&rdquo\; Speaking/Q&amp\;A/Book Signing Free Admission\, A Gift to the Community To Reserve Your Ticket: <a href="https://www.eventbrite.com/e/an-evening-with-john-pavlovitz-tickets-60217074892">https://www.eventbrite.com/e/an-evening-with-john-pavlovitz-tickets-60217074892</a>
LOCATION:Alumni Recital Hall Redfern Arts Center Keene State College\, Keene\, NH "Finding Hope in Difficult Days" Speaking/Q&A/Book Signing Free Admission\, A Gift to the Community Hosted by: Cheshire County Democrats Monadnock Family Services Ann Heffernon & Jay Ward JoAnn & Bill Fenton To Reserve Your Ticket: Alumni Recital Hall Redfern Arts Center 90 Wyman Way Keene State College\, Keene\, NH
UID:e.2182.15082
SEQUENCE:3
DTSTAMP:20260425T020816Z
URL:http://franklinccdev.chambermaster.com/events/details/activist-author-john-pavlovitz-15082
END:VEVENT

END:VCALENDAR
