BEGIN:VCALENDAR
VERSION:2.0
PRODID:-//ChamberMaster//Event Calendar 2.0//EN
METHOD:PUBLISH
X-PUBLISHED-TTL:P3D
REFRESH-INTERVAL:P3D
CALSCALE:GREGORIAN
BEGIN:VEVENT
DTSTART:20190412T130000Z
DTEND:20190412T210000Z
X-MICROSOFT-CDO-ALLDAYEVENT:FALSE
SUMMARY:Apple & Blueberry Pie Sale
DESCRIPTION:All pies made fresh at the church.
X-ALT-DESC;FMTTYPE=text/html:All pies made fresh at the church.&nbsp\;
LOCATION:Robbins Memorial Church 55 Munson Street\, Greenfield
UID:e.2182.14949
SEQUENCE:3
DTSTAMP:20260426T015412Z
URL:http://franklinccdev.chambermaster.com/events/details/apple-blueberry-pie-sale-14949
END:VEVENT

END:VCALENDAR
