BEGIN:VCALENDAR
VERSION:2.0
PRODID:-//ChamberMaster//Event Calendar 2.0//EN
METHOD:PUBLISH
X-PUBLISHED-TTL:P3D
REFRESH-INTERVAL:P3D
CALSCALE:GREGORIAN
BEGIN:VEVENT
DTSTART:20210430T160000Z
DTEND:20210430T163000Z
X-MICROSOFT-CDO-ALLDAYEVENT:FALSE
SUMMARY:Arbor Day Celebration
DESCRIPTION:Hosted by Greenfield Tree Committee\n\n\n\nJoin us\, along with the Mayor Roxann Wedegartner\, Tree Warden Paul Newell\, and DPW staff as we plant a tree to celebrate Arbor Day. The brief event will take place on the east side of Bank Row\, in the pocket park that leads to the parking garage.
X-ALT-DESC;FMTTYPE=text/html:Hosted by Greenfield Tree Committee<br />\n<br />\nJoin us\, along with the Mayor Roxann Wedegartner\, Tree Warden Paul Newell\, and DPW staff as we plant a tree to celebrate Arbor Day. The brief event will take place on the east side of Bank Row\, in the pocket park that leads to the parking garage.<br />\n&nbsp\;
LOCATION:
UID:e.2182.17916
SEQUENCE:3
DTSTAMP:20260420T140036Z
URL:http://franklinccdev.chambermaster.com/events/details/arbor-day-celebration-17916
END:VEVENT

END:VCALENDAR
