BEGIN:VCALENDAR
VERSION:2.0
PRODID:-//ChamberMaster//Event Calendar 2.0//EN
METHOD:PUBLISH
X-PUBLISHED-TTL:P3D
REFRESH-INTERVAL:P3D
CALSCALE:GREGORIAN
BEGIN:VEVENT
DTSTART:20210417T120000Z
DTEND:20210417T170000Z
X-MICROSOFT-CDO-ALLDAYEVENT:FALSE
SUMMARY:Benefit Tag Sale
DESCRIPTION:We're having a tag sale! \n\n\n\nBaby items\, kid toys\, kitchen goods\, books\, holiday decorations\, knick knacks\, and so much more. \n\n\n\nPlease note this is not the giant community tag sale that took place pre-covid. We are hoping to have that event again later in the summer.
X-ALT-DESC;FMTTYPE=text/html:<span style="color: rgb(5\, 5\, 5)\; font-family: &quot\;Segoe UI Historic&quot\;\, &quot\;Segoe UI&quot\;\, Helvetica\, Arial\, sans-serif\; font-size: 15px\;">We&#39\;re having a tag sale!&nbsp\;</span><br />\n<br />\n<span style="color: rgb(5\, 5\, 5)\; font-family: &quot\;Segoe UI Historic&quot\;\, &quot\;Segoe UI&quot\;\, Helvetica\, Arial\, sans-serif\; font-size: 15px\; white-space: pre-wrap\;">Baby items\, kid toys\, kitchen goods\, books\, holiday decorations\, knick knacks\, and so much more. </span><br style="color: rgb(5\, 5\, 5)\; font-family: &quot\;Segoe UI Historic&quot\;\, &quot\;Segoe UI&quot\;\, Helvetica\, Arial\, sans-serif\; font-size: 15px\; animation-name: none !important\; transition-property: none !important\;" />\n<br style="color: rgb(5\, 5\, 5)\; font-family: &quot\;Segoe UI Historic&quot\;\, &quot\;Segoe UI&quot\;\, Helvetica\, Arial\, sans-serif\; font-size: 15px\; animation-name: none !important\; transition-property: none !important\;" />\n<span style="color: rgb(5\, 5\, 5)\; font-family: &quot\;Segoe UI Historic&quot\;\, &quot\;Segoe UI&quot\;\, Helvetica\, Arial\, sans-serif\; font-size: 15px\;">Please note this is not the giant community tag sale that took place pre-covid. We are hoping to have that event again later in the summer.</span>
LOCATION:Franklin County Fairgrounds 89 Wisdom Way\, Greenfield MA
UID:e.2182.17872
SEQUENCE:3
DTSTAMP:20260422T181934Z
URL:http://franklinccdev.chambermaster.com/events/details/benefit-tag-sale-17872
END:VEVENT

END:VCALENDAR
