BEGIN:VCALENDAR
VERSION:2.0
PRODID:-//ChamberMaster//Event Calendar 2.0//EN
METHOD:PUBLISH
X-PUBLISHED-TTL:P3D
REFRESH-INTERVAL:P3D
CALSCALE:GREGORIAN
BEGIN:VEVENT
DTSTART:20190413T000000Z
DTEND:20190413T020000Z
X-MICROSOFT-CDO-ALLDAYEVENT:FALSE
SUMMARY:Big Sam's Funky Nation
DESCRIPTION:Big Sam's Funky Nation has been honing their unique brand of "Noladelic PowerFunk" for more than a decade. It's high-energy music that mixes funk\, rock 'n' roll\, hip-hop and jazz into the same pot\, gluing everything together with the brassy influence and heavy grooves of New Orleans. From national performances at Bonnaroo and Austin City Limits\, to hometown appearances at Voodoo Fest and Jazz Fest\, Big Sam's Funky Nation have built their reputation onstage. The band's live performances are legendary\, filled with blasts of brass\, bursts of electric guitar and the charisma of Big Sam\, a frontman who sings\, plays\, dances and involves the audience in everything he does. You don't just watch a Funky Nation show\; you become part of the show.
X-ALT-DESC;FMTTYPE=text/html:Big Sam&rsquo\;s Funky Nation has been honing their unique brand of &ldquo\;Noladelic PowerFunk&rdquo\; for more than a decade. It&#39\;s high-energy music that mixes funk\, rock &lsquo\;n&rsquo\; roll\, hip-hop and jazz into the same pot\, gluing everything together with the brassy influence&mdash\;and heavy grooves&mdash\;of New Orleans. From national performances at Bonnaroo and Austin City Limits\, to hometown appearances at Voodoo Fest and Jazz Fest\, Big Sam&rsquo\;s Funky Nation have built their reputation onstage. The band&rsquo\;s live performances are legendary\, filled with blasts of brass\, bursts of electric guitar and the charisma of Big Sam\, a frontman who sings\, plays\, dances and involves the audience in everything he does. You don&rsquo\;t just watch a Funky Nation show\; you become part of the show.
LOCATION:Hawks & Reed 289 Main St.\, Greenfield MA
UID:e.2182.14895
SEQUENCE:3
DTSTAMP:20260425T230257Z
URL:http://franklinccdev.chambermaster.com/events/details/big-sam-s-funky-nation-14895
END:VEVENT

END:VCALENDAR
