BEGIN:VCALENDAR
VERSION:2.0
PRODID:-//ChamberMaster//Event Calendar 2.0//EN
METHOD:PUBLISH
X-PUBLISHED-TTL:P3D
REFRESH-INTERVAL:P3D
CALSCALE:GREGORIAN
BEGIN:VEVENT
DTSTART:20191209T223000Z
DTEND:20191210T010000Z
X-MICROSOFT-CDO-ALLDAYEVENT:FALSE
SUMMARY:Board Basics
DESCRIPTION:Don't miss our final Board Basics workshop of 2019! Board Basics is free and open to everyone\, with dinner provided. This 2.5 hour training covers board roles and responsibilities\, how to be effective\, fundraising\, and more. If you are interested in board service or currently serving\, this is a great way for to get engaged and learn more.
X-ALT-DESC;FMTTYPE=text/html:Don&#39\;t miss our final Board Basics workshop of 2019! Board Basics is free and open to everyone\, with dinner provided. This 2.5 hour training covers board roles and responsibilities\, how to be effective\, fundraising\, and more. If you are interested in board service or currently serving\, this is a great way for to get engaged and learn more.
LOCATION:John Olver Transit Center 12 Olive Street\, Greenfield\, MA
UID:e.2182.15913
SEQUENCE:3
DTSTAMP:20260424T055552Z
URL:http://franklinccdev.chambermaster.com/events/details/board-basics-12-09-2019-15913
END:VEVENT

END:VCALENDAR
