BEGIN:VCALENDAR
VERSION:2.0
PRODID:-//ChamberMaster//Event Calendar 2.0//EN
METHOD:PUBLISH
X-PUBLISHED-TTL:P3D
REFRESH-INTERVAL:P3D
CALSCALE:GREGORIAN
BEGIN:VEVENT
DTSTART:20200213T220000Z
DTEND:20200214T000000Z
X-MICROSOFT-CDO-ALLDAYEVENT:FALSE
SUMMARY:Business After Hours
DESCRIPTION:Join us at The Deerfield Inn for an evening of networking. Raffle prizes include wine from Cameron's Winery and chocolates from Richardson's Candy Kitchen.\n\n\n\nThe hors d'oeuvres are:\n\nGlazed Cocktail Meatballs- with sweet chili sauce\n\nMini French Onion Bites- caramelized onion and shave Parmesan in Brioche
X-ALT-DESC;FMTTYPE=text/html:Join us at The Deerfield Inn for an evening of networking. Raffle prizes include wine from Cameron&#39\;s Winery and chocolates from Richardson&#39\;s Candy Kitchen.<br />\n<br />\n<span style="color:#1F497D\;"><span style="font-family:calibri\,sans-serif\;"><span style="font-size:11.0pt\;">The hors d&rsquo\;oeuvres are:</span></span></span><br />\n<span style="color:#1F497D\;"><span style="font-family:calibri\,sans-serif\;"><span style="font-size:11.0pt\;">Glazed Cocktail Meatballs- with sweet chili sauce</span></span></span><br />\n<span style="color:#1F497D\;"><span style="font-family:calibri\,sans-serif\;"><span style="font-size:11.0pt\;">Mini French Onion Bites- caramelized onion and shave Parmesan in Brioche</span></span></span><br />\n&nbsp\;
LOCATION:
UID:e.2182.16031
SEQUENCE:3
DTSTAMP:20260424T051442Z
URL:http://franklinccdev.chambermaster.com/events/details/business-after-hours-16031
END:VEVENT

END:VCALENDAR
