BEGIN:VCALENDAR
VERSION:2.0
PRODID:-//ChamberMaster//Event Calendar 2.0//EN
METHOD:PUBLISH
X-PUBLISHED-TTL:P3D
REFRESH-INTERVAL:P3D
CALSCALE:GREGORIAN
BEGIN:VEVENT
DTSTART:20210831T210000Z
DTEND:20210831T230000Z
X-MICROSOFT-CDO-ALLDAYEVENT:FALSE
SUMMARY:Business After Hours
DESCRIPTION:We are delighted to be hosted at the Deerfield Inn for our first Business After Hours of 2021. Our last business after hours was also at the Deerfield Inn in February 2020!  We look forward to seeing old friends and making new ones.\n\n\n\nThere will be a cash bar and the Inn is preparing some delicious appetizers including glazed meatballs\, pizza\, and mini desserts. Bring a business card to enter the drawings for some great raffle prizes and there will be an opportunity to tour the Deerfield Inn.\n\n\n\nPlease register as soon as possible for planning purposes. There is no admission fee but you must pre-register.  The event will take place on the ground level which opens up to the patio.\n\n\n\nSee you at the Deerfield Inn!
X-ALT-DESC;FMTTYPE=text/html:<span style="font-family:calibri\,sans-serif\;"><span style="font-size:11.0pt\;">We are delighted to be hosted at the <strong>Deerfield Inn</strong> for our first <strong>Business After Hour</strong>s of 2021. Our last business after hours was also at the Deerfield Inn in February 2020!&nbsp\; We look forward to seeing old friends and making new ones.</span></span><br />\n<br />\n<span style="font-family:calibri\,sans-serif\;"><span style="font-size:11.0pt\;">There will be a cash bar and the Inn is preparing some delicious appetizers including glazed meatballs\, pizza\, and mini desserts. Bring a business card to enter the drawings for some great raffle prizes and there will be an opportunity to tour the Deerfield Inn.</span></span><br />\n<br />\n<span style="font-family:calibri\,sans-serif\;"><span style="font-size:11.0pt\;">Please register as soon as possible for planning purposes. There is no admission fee but you must pre-register.&nbsp\; The event will take place on the ground level which opens up to the patio.</span></span><br />\n<br />\n<span style="font-family:calibri\,sans-serif\;"><span style="font-size:11.0pt\;">See you at the Deerfield Inn!</span></span>
LOCATION:The Deerfield Inn 81 Old Main Street\, Deerfield
UID:e.2182.18331
SEQUENCE:3
DTSTAMP:20260419T120910Z
URL:http://franklinccdev.chambermaster.com/events/details/business-after-hours-18331
END:VEVENT

END:VCALENDAR
