BEGIN:VCALENDAR
VERSION:2.0
PRODID:-//ChamberMaster//Event Calendar 2.0//EN
METHOD:PUBLISH
X-PUBLISHED-TTL:P3D
REFRESH-INTERVAL:P3D
CALSCALE:GREGORIAN
BEGIN:VEVENT
DTSTART;VALUE=DATE:20210219
DTEND;VALUE=DATE:20210301
TRANSP:TRANSPARENT
X-MICROSOFT-CDO-ALLDAYEVENT:TRUE
SUMMARY:Children's Online Winter Reading CHallenge
DESCRIPTION:Join our Children's Winter Reading Challenge for ages 0 - 12!  The winner of our second week's raffle has been notified and has won a $10.00 gift card to Terry's Corner Cafe (located inside Trail Head Outfitters) in Orange. The reading challenge continues through the end of February - there are 3 more prize raffles to go!\n\nReading must be logged online on our Beanstack website. Registration is easy at orangelib.beanstack.org!\n\n\n\nIt's easy! Use your computer or mobile device to log the time you spend reading and you'll be automatically entered into weekly raffles to win gift cards to stores in or near Orange.
X-ALT-DESC;FMTTYPE=text/html:<span style="font-size:12px\;">Join our Children&#39\;s Winter Reading Challenge for ages 0 - 12!&nbsp\; The winner of our second week&#39\;s raffle has been notified and has won a $10.00 gift card to Terry&#39\;s Corner Cafe (located inside Trail Head Outfitters) in Orange. The reading challenge continues through the end of February - there are 3 more prize raffles to go!<br />\nReading must be logged online on our Beanstack website. Registration is easy at <a href="http://www.orangelib.beanstack.org" target="_blank">orangelib.beanstack.org</a>!<br />\n<br />\n<span style="color: rgb(101\, 101\, 101)\; font-family: museo-sans-rounded\, sans-serif\; font-weight: 700\; text-align: center\;">It&#39\;s easy! Use your computer or mobile device to log the time you spend reading and you&#39\;ll be automatically entered into weekly raffles to win gift cards to stores in or near Orange.</span></span>
LOCATION:
UID:e.2182.17809
SEQUENCE:3
DTSTAMP:20260424T195045Z
URL:http://franklinccdev.chambermaster.com/events/details/children-s-online-winter-reading-challenge-17809
END:VEVENT

END:VCALENDAR
