BEGIN:VCALENDAR
VERSION:2.0
PRODID:-//ChamberMaster//Event Calendar 2.0//EN
METHOD:PUBLISH
X-PUBLISHED-TTL:P3D
REFRESH-INTERVAL:P3D
CALSCALE:GREGORIAN
BEGIN:VEVENT
DTSTART:20200306T133000Z
DTEND:20200307T033000Z
X-MICROSOFT-CDO-ALLDAYEVENT:FALSE
SUMMARY:Coffee & Conversation
DESCRIPTION:The United Arc & Greater Athol Area Advocates for Families with Special Needs proudly present Coffee & Conversation with your legislators from Franklin\, Hampshire\, Hampden\, & Worcester counties.  Join us for a conversation about inclusion\, choice\, and independence with your representatives. Featuring stories of people with intellectual and developmental disabilities\, their families and advocates.
X-ALT-DESC;FMTTYPE=text/html:The United Arc &amp\; Greater Athol Area Advocates for Families with Special Needs proudly present Coffee &amp\; Conversation&nbsp\;with your legislators from Franklin\, Hampshire\, Hampden\, &amp\; Worcester counties.&nbsp\; Join us for a conversation about inclusion\, choice\, and independence with your representatives. Featuring stories of people with intellectual and developmental disabilities\, their families and advocates.
LOCATION:
UID:e.2182.17221
SEQUENCE:3
DTSTAMP:20260423T081110Z
URL:http://franklinccdev.chambermaster.com/events/details/coffee-conversation-17221
END:VEVENT

END:VCALENDAR
