BEGIN:VCALENDAR
VERSION:2.0
PRODID:-//ChamberMaster//Event Calendar 2.0//EN
METHOD:PUBLISH
X-PUBLISHED-TTL:P3D
REFRESH-INTERVAL:P3D
CALSCALE:GREGORIAN
BEGIN:VEVENT
DTSTART:20190713T131500Z
DTEND:20190713T154500Z
X-MICROSOFT-CDO-ALLDAYEVENT:FALSE
SUMMARY:Collage Making with Nila Patterson
DESCRIPTION:All are invited to make a personalized\, unique collage with Nila as your instructor. Feel free to bring  multi-media types of materials such as old calendar photos\, magazines\, family photographs\, wall paper patterns\, etc.  While some supplies will be available\, it would be best to scout out some treasures in your own home. This is all free of charge thanks to the generosity of Nila Patterson. GSB will provide light refreshments. Create a work of art to bring back home.
X-ALT-DESC;FMTTYPE=text/html:All are invited to make a personalized\, unique collage with Nila as your instructor. Feel free to bring&nbsp\; multi-media types of materials such as old calendar photos\, magazines\, family photographs\, wall paper patterns\, etc.&nbsp\; While some supplies will be available\, it would be best to scout out some treasures in your own home. This is all free of charge thanks to the generosity of Nila Patterson. GSB will provide light refreshments. Create a work of art to bring back home.
LOCATION:Greenfield Savings Bank 282 Avenue A\, Turners Falls
UID:e.2182.15469
SEQUENCE:3
DTSTAMP:20260426T015053Z
URL:http://franklinccdev.chambermaster.com/events/details/collage-making-with-nila-patterson-15469
END:VEVENT

END:VCALENDAR
