BEGIN:VCALENDAR
VERSION:2.0
PRODID:-//ChamberMaster//Event Calendar 2.0//EN
METHOD:PUBLISH
X-PUBLISHED-TTL:P3D
REFRESH-INTERVAL:P3D
CALSCALE:GREGORIAN
BEGIN:VEVENT
DTSTART:20190725T210000Z
DTEND:20190726T000000Z
X-MICROSOFT-CDO-ALLDAYEVENT:FALSE
SUMMARY:Cruise Night
DESCRIPTION:Cruise on up to Pine Hill and show off those amazing antique cars\, trucks\, and bikes.  Enjoy some of Pine Hill's delicious BBQ!  Raffles AND of course the one and only DJ BOBBY C will be here spinning all your favorite oldies!\n\nStop in the Farm Store for some of Pine Hill's Famous Cider Donuts and soooo much more and you will want to stop by the Barnyard to see Kylie the Cow and all of her furry friends.
X-ALT-DESC;FMTTYPE=text/html:Cruise on up to Pine Hill and show off those amazing antique cars\, trucks\, and bikes.&nbsp\; Enjoy some of Pine Hill&rsquo\;s delicious BBQ!&nbsp\; Raffles AND of course the one and only DJ BOBBY C will be here spinning all your favorite oldies!<br />\nStop in the Farm Store for some of Pine Hill&rsquo\;s Famous Cider Donuts and soooo much more and you will want to stop by the Barnyard to see Kylie the Cow and all of her furry friends.&nbsp\;
LOCATION:Pine Hill Orchards 248 Greenfield Rd\, Colrain
UID:e.2182.15476
SEQUENCE:3
DTSTAMP:20260425T143632Z
URL:http://franklinccdev.chambermaster.com/events/details/cruise-night-15476
END:VEVENT

END:VCALENDAR
