BEGIN:VCALENDAR
VERSION:2.0
PRODID:-//ChamberMaster//Event Calendar 2.0//EN
METHOD:PUBLISH
X-PUBLISHED-TTL:P3D
REFRESH-INTERVAL:P3D
CALSCALE:GREGORIAN
BEGIN:VEVENT
DTSTART:20200328T140000Z
DTEND:20200328T190000Z
X-MICROSOFT-CDO-ALLDAYEVENT:FALSE
SUMMARY:Easter Bunny Arrival!
DESCRIPTION:As you may have heard\, Yankee Candle Village is temporarily closed due to the COVID-19 outbreak and plan to reopen on April 1st.  With that said\, our Easter Bunny Arrival Event on Saturday March 28th has been canceled along with our Easter Bunny Photo's on March 28th & 29th.\n\nHop on over for the 3rd annual Easter Bunny Arrival at Yankee Candle  Village! \n\n\n\nJoin us for a special Easter Parade - featuring the Easter Bunny \n\narriving on an antique fire truck! \n\n\n\nFree Bunny Ears & Easter Eggs handed out during parade! \n\n(while supplies last) \n\n\n\nFollowing the Parade until 12pm:\n\nMeet the fierce & brave princesses \n\nPlus a free craft! (while supplies last) \n\n\n\nDaffodil sales to support the American Cancer Society! \n\n\n\nVisit with the Easter Bunny and take a photo!
X-ALT-DESC;FMTTYPE=text/html:<span style="color:#FF0000\;"><span style="font-family: Arial\, Helvetica\, sans-serif\; font-size: small\;">As you may have heard\, Yankee Candle Village is temporarily closed due to the COVID-19 outbreak and plan to reopen on April 1</span><sup style="color: rgb(34\, 34\, 34)\; font-family: Arial\, Helvetica\, sans-serif\;">st</sup><span style="font-family: Arial\, Helvetica\, sans-serif\; font-size: small\;">.&nbsp\; With that said\, our Easter Bunny Arrival Event on Saturday March 28</span><sup style="color: rgb(34\, 34\, 34)\; font-family: Arial\, Helvetica\, sans-serif\;">th</sup><span style="font-family: Arial\, Helvetica\, sans-serif\; font-size: small\;">&nbsp\;has been canceled along with our Easter Bunny Photo&rsquo\;s on March 28</span><sup style="color: rgb(34\, 34\, 34)\; font-family: Arial\, Helvetica\, sans-serif\;">th</sup><span style="font-family: Arial\, Helvetica\, sans-serif\; font-size: small\;">&nbsp\;&amp\; 29</span><sup style="color: rgb(34\, 34\, 34)\; font-family: Arial\, Helvetica\, sans-serif\;">th</sup><span style="font-family: Arial\, Helvetica\, sans-serif\; font-size: small\;">.</span><br />\n<span style="font-family: helvetica\, arial\, sans-serif\; font-size: 14px\;">Hop on over for the 3rd annual Easter Bunny Arrival at Yankee Candle&reg\; Village! </span></span><br />\n<br />\n<span style="color:rgb(29\, 33\, 41)\; font-family:helvetica\,arial\,sans-serif\; font-size:14px">Join us for a special Easter Parade - featuring the Easter Bunny </span><br />\n<span style="color:rgb(29\, 33\, 41)\; font-family:helvetica\,arial\,sans-serif\; font-size:14px">arriving on an antique fire truck! </span><br />\n<br />\n<span style="color:rgb(29\, 33\, 41)\; font-family:helvetica\,arial\,sans-serif\; font-size:14px">Free Bunny Ears &amp\; Easter Eggs handed out during parade! </span><br />\n<span style="color:rgb(29\, 33\, 41)\; font-family:helvetica\,arial\,sans-serif\; font-size:14px">(while supplies last) </span><br />\n<br />\n<span style="color:rgb(29\, 33\, 41)\; font-family:helvetica\,arial\,sans-serif\; font-size:14px">Following the Parade until 12pm:</span><br />\n<span style="color:rgb(29\, 33\, 41)\; font-family:helvetica\,arial\,sans-serif\; font-size:14px">Meet the fierce &amp\; brave princesses </span><br />\n<span style="color:rgb(29\, 33\, 41)\; font-family:helvetica\,arial\,sans-serif\; font-size:14px">Plus a free craft! (while supplies last) </span><br />\n<br />\n<span style="color:rgb(29\, 33\, 41)\; font-family:helvetica\,arial\,sans-serif\; font-size:14px">Daffodil sales to support the American Cancer Society! </span><br />\n<br />\n<span style="color:rgb(29\, 33\, 41)\; font-family:helvetica\,arial\,sans-serif\; font-size:14px">Visit with the Easter Bunny and take a photo! </span>
LOCATION:Yankee Candle Village 25 Greenfield Road South Deerfield\, MA 01373
UID:e.2182.17227
SEQUENCE:3
DTSTAMP:20260424T051442Z
URL:http://franklinccdev.chambermaster.com/events/details/easter-bunny-arrival-03-28-2020-17227
END:VEVENT

END:VCALENDAR
