BEGIN:VCALENDAR
VERSION:2.0
PRODID:-//ChamberMaster//Event Calendar 2.0//EN
METHOD:PUBLISH
X-PUBLISHED-TTL:P3D
REFRESH-INTERVAL:P3D
CALSCALE:GREGORIAN
BEGIN:VEVENT
DTSTART:20200117T130000Z
DTEND:20200117T140000Z
X-MICROSOFT-CDO-ALLDAYEVENT:FALSE
SUMMARY:Executive Director Breakfast
DESCRIPTION:Leadership Pioneer Valley and Franklin County Chamber of Commerce are pleased to jointly host an Executive Director Roundtable Group. Our first meeting will in the community room at the John Olver Transit Center on January 17 from 8:00am-9:00am. Simple breakfast fare along with coffee and tea will be provided. The breakfast is an opportunity for nonprofit executive directors to come together to discuss the challenges and achievements facing nonprofit organizations in Franklin County while fostering opportunities for collaboration in the community. At our first meeting\, we will discuss our structure and future topics of discussion. We hope to see you there! Registration is required by January 14th. Attendance is free for LPV's Leaders OnBoard members and FCCC members and only $15 for nonmembers.
X-ALT-DESC;FMTTYPE=text/html:Leadership Pioneer Valley and Franklin County Chamber of Commerce are pleased to jointly host an Executive Director Roundtable Group. Our first meeting will in the community room at the John Olver Transit Center on January 17 from 8:00am-9:00am. Simple breakfast fare along with coffee and tea will be provided. The breakfast is an opportunity for nonprofit executive directors to come together to discuss the challenges and achievements facing nonprofit organizations in Franklin County while fostering opportunities for collaboration in the community. At our first meeting\, we will discuss our structure and future topics of discussion. We hope to see you there! Registration is required by January 14th. Attendance is free for LPV&rsquo\;s Leaders OnBoard members and FCCC members and only $15 for nonmembers.
LOCATION:John Olver Transit Center
UID:e.2182.15943
SEQUENCE:3
DTSTAMP:20260424T124801Z
URL:http://franklinccdev.chambermaster.com/events/details/executive-director-breakfast-15943
END:VEVENT

END:VCALENDAR
