BEGIN:VCALENDAR
VERSION:2.0
PRODID:-//ChamberMaster//Event Calendar 2.0//EN
METHOD:PUBLISH
X-PUBLISHED-TTL:P3D
REFRESH-INTERVAL:P3D
CALSCALE:GREGORIAN
BEGIN:VEVENT
DTSTART:20200126T180000Z
DTEND:20200126T200000Z
X-MICROSOFT-CDO-ALLDAYEVENT:FALSE
SUMMARY:Exploded View Presents: Napping
DESCRIPTION:These are overwhelming times and sometimes we just need to go to bed. So come do it! Sleep is necessary\, and Americans are sleep deprived. People around the world often don't have a safe place to rest. Let's recharge. Meet in the Great Hall. Ambient live music provided. BYOB Bring your own blanket!
X-ALT-DESC;FMTTYPE=text/html:These are overwhelming times and sometimes we just need to go to bed. So come do it! Sleep is necessary\, and Americans are sleep deprived. People around the world often don&rsquo\;t have a safe place to rest. Let&rsquo\;s recharge. Meet in the Great Hall. Ambient live music provided. BYOB&mdash\;Bring your own blanket!
LOCATION:Great Falls Discovery Center 2 Avenue A\, Turners Falls
UID:e.2182.15995
SEQUENCE:3
DTSTAMP:20260424T042557Z
URL:http://franklinccdev.chambermaster.com/events/details/exploded-view-presents-napping-15995
END:VEVENT

END:VCALENDAR
