BEGIN:VCALENDAR
VERSION:2.0
PRODID:-//ChamberMaster//Event Calendar 2.0//EN
METHOD:PUBLISH
X-PUBLISHED-TTL:P3D
REFRESH-INTERVAL:P3D
CALSCALE:GREGORIAN
BEGIN:VEVENT
DTSTART:20200229T180000Z
DTEND:20200229T200000Z
X-MICROSOFT-CDO-ALLDAYEVENT:FALSE
SUMMARY:Exploded View Presents: Open Mic
DESCRIPTION:Join Exploded View's ongoing conversation in the Great Hall about mapping\, the significance of place\, and movement across boundaries. Each reader will have up to five minutes.
X-ALT-DESC;FMTTYPE=text/html:Join Exploded View&rsquo\;s ongoing conversation in the Great Hall about mapping\, the significance of place\, and movement across boundaries. Each reader will have up to five minutes.
LOCATION:Great Falls Discovery Center 2 Avenue A\, Turners Falls
UID:e.2182.16200
SEQUENCE:3
DTSTAMP:20260423T172744Z
URL:http://franklinccdev.chambermaster.com/events/details/exploded-view-presents-open-mic-16200
END:VEVENT

END:VCALENDAR
