BEGIN:VCALENDAR
VERSION:2.0
PRODID:-//ChamberMaster//Event Calendar 2.0//EN
METHOD:PUBLISH
X-PUBLISHED-TTL:P3D
REFRESH-INTERVAL:P3D
CALSCALE:GREGORIAN
BEGIN:VEVENT
DTSTART:20200119T180000Z
DTEND:20200119T200000Z
X-MICROSOFT-CDO-ALLDAYEVENT:FALSE
SUMMARY:Exploded View Presents: Put Your Story on the Map
DESCRIPTION:Join the curators of the You Are Here art exhibit in a community mapping project focusing on Turners Falls that combines personal history with visions for the future. Additionally\, this project will be available as a self-directed activity in the Great Hall January 19 through February 29. Perhaps you'll consider weighing in with your thoughts about downtown Turners Falls Livability too. The Montague Planning Department is sponsoring a conversation\, "Where do we grow from here?" on February 1st in the Great Hall\, to review the award winning 2013 Livability Report (see montague-ma.gov for details)\, and update the public on upcoming building projects in Turners Falls. In the event of a snowstorm on January 12\, the Artists' Reception and Exploded View performance will be changed to January 19\, 1-3 p.m.
X-ALT-DESC;FMTTYPE=text/html:Join the curators of the You Are Here art exhibit in a community mapping project focusing on Turners Falls that combines personal history with visions for the future. Additionally\, this project will be available as a self-directed activity in the Great Hall January 19 through February 29. Perhaps you&rsquo\;ll consider weighing in with your thoughts about downtown Turners Falls Livability too. The Montague Planning Department is sponsoring a conversation\, &ldquo\;Where do we grow from here?&rdquo\; on February 1st in the Great Hall\, to review the award winning 2013 Livability Report (see <a href="http://montague-ma.gov" target="_blank">montague-ma.gov</a> for details)\, and update the public on upcoming building projects in Turners Falls. In the event of a snowstorm on January 12\, the Artists&rsquo\; Reception and Exploded View performance will be changed to January 19\, 1-3 p.m.&nbsp\;&nbsp\;
LOCATION:Great Falls Discovery Center - Great Hall 2 Avenue A\, Turners Falls
UID:e.2182.15994
SEQUENCE:3
DTSTAMP:20260424T054111Z
URL:http://franklinccdev.chambermaster.com/events/details/exploded-view-presents-put-your-story-on-the-map-15994
END:VEVENT

END:VCALENDAR
