BEGIN:VCALENDAR
VERSION:2.0
PRODID:-//ChamberMaster//Event Calendar 2.0//EN
METHOD:PUBLISH
X-PUBLISHED-TTL:P3D
REFRESH-INTERVAL:P3D
CALSCALE:GREGORIAN
BEGIN:VEVENT
DTSTART:20201031T130000Z
DTEND:20201031T180000Z
X-MICROSOFT-CDO-ALLDAYEVENT:FALSE
SUMMARY:Fall Bazaar
DESCRIPTION:Presented by the Holy Name of Jesus Church in South Deerfield.\n\nFeaturing takeout orders of pierogi (cheese\, potato and cheese\, and cabbage)\, galabki (stuffed cabbage)\, homemade apple pies\, and French meat pies.
X-ALT-DESC;FMTTYPE=text/html:Presented by the Holy Name of Jesus Church in South Deerfield.<br />\nFeaturing takeout orders of pierogi (cheese\, potato and cheese\, and cabbage)\, galabki (stuffed cabbage)\, homemade apple pies\, and French meat pies.
LOCATION:
UID:e.2182.17652
SEQUENCE:3
DTSTAMP:20260420T213832Z
URL:http://franklinccdev.chambermaster.com/events/details/fall-bazaar-17652
END:VEVENT

END:VCALENDAR
