BEGIN:VCALENDAR
VERSION:2.0
PRODID:-//ChamberMaster//Event Calendar 2.0//EN
METHOD:PUBLISH
X-PUBLISHED-TTL:P3D
REFRESH-INTERVAL:P3D
CALSCALE:GREGORIAN
BEGIN:VEVENT
DTSTART:20190621T112500Z
DTEND:20190621T130000Z
X-MICROSOFT-CDO-ALLDAYEVENT:FALSE
SUMMARY:FCCC 100th Annual Election & Legislative Breakfast
DESCRIPTION:Invited guests include Senators Comerford and Hinds and Representatives Blais\, Mark\, and Whipps. We will have our election of officers and remarks from each of the elected officials who are able to attend. This will be our last breakfast until September - it will be held on Friday\, June 21\, 7:30-9:00 a.m.\, at Eaglebrook School in Deerfield.\n\nThe Eaglebrook kitchen staff will be preparing a delicious breakfast buffet. Eaglebrook Security will be directing traffic to the designated parking lots.\n\nA new feature at our June breakfast will be lots of door prizes that have been generously donated by members of our Board of Directors.  We will have gift cards to many local businesses including Mesa Verde\, Zoar Outdoor\, Terrazza\, Wilson's Department Store\, Hope & Olive\, Clarkdale Fruit Farms\, and Shelburne Falls Coffee Roasters\, so make sure you bring some extra luck that day$!$!\n\n \n\nThanks to our sponsors Greenfield Cooperative Bank\,Greenfield Recorder\, Greenfield Savings Bank\, MassHire Franklin-Hampshire Workforce Board\, Pocumtuck Valley Memorial Association\, and Yankee Candle Village.
X-ALT-DESC;FMTTYPE=text/html:<p><span style="font-size: 14px\;">Invited guests include&nbsp\;<strong>Senators</strong><strong>&nbsp\;Comerford </strong>and<strong> Hinds </strong>and<strong> Representatives Blais\, </strong><strong>Mark\, </strong>and<strong> Whipps</strong>. We will have our election of officers and remarks from each of the elected officials who are able to attend.&nbsp\;This will be our last breakfast until September - it will be held on</span><strong style="font-size: 14px\;">&nbsp\;Friday\, June 21</strong><span style="font-size: 14px\;">\, 7:30-9:00 a.m.\, at&nbsp\;</span><strong style="font-size: 14px\;">Eaglebrook School&nbsp\;</strong><span style="font-size: 14px\;">in Deerfield.<br />\nThe Eaglebrook kitchen staff will be preparing a delicious breakfast buffet.<span style="font-size: 12px\;">&nbsp\;<span style="font-size: 14px\;"><span style="font-family: tahoma\;">Eaglebrook </span></span></span><span style="font-family: tahoma\;"><span style="mso-fareast-font-family: &quot\;Times New Roman&quot\;\;"><font color="#000000">Security will be directing traffic to the designated parking lots.</font></span></span></span><br />\nA new feature at our June breakfast will be lots of door prizes that have been generously donated by members of our Board of Directors.&nbsp\; We will have gift cards to many local businesses including Mesa Verde\, Zoar Outdoor\, Terrazza\, Wilson&#39\;s Department Store\, Hope &amp\; Olive\, Clarkdale Fruit Farms\, and Shelburne Falls Coffee Roasters\, so make sure you bring some extra luck that day$!$!<br />\n<span style="font-size: 14px\;"><span style="font-family: tahoma\;"><span style="mso-fareast-font-family: &quot\;Times New Roman&quot\;\;"><font color="#000000">&nbsp\;</font></span></span></span><br />\n<strong><em>Thanks to our sponsors Greenfield Cooperative Bank\,Greenfield&nbsp\;Recorder\, Greenfield Savings Bank\,&nbsp\;MassHire&nbsp\;Franklin-Hampshire Workforce Board\, Pocumtuck Valley Memorial Association\, and Yankee Candle Village.</em></strong></p>\n
LOCATION:Eaglebrook School's Dining Commons\, 271 Pine Nook Road in Deerfield. School security will direct you to the parking areas.
UID:e.2182.15071
SEQUENCE:3
DTSTAMP:20260425T205330Z
URL:http://franklinccdev.chambermaster.com/events/details/fccc-100th-annual-election-legislative-breakfast-15071
END:VEVENT

END:VCALENDAR
