BEGIN:VCALENDAR
VERSION:2.0
PRODID:-//ChamberMaster//Event Calendar 2.0//EN
METHOD:PUBLISH
X-PUBLISHED-TTL:P3D
REFRESH-INTERVAL:P3D
CALSCALE:GREGORIAN
BEGIN:VEVENT
DTSTART:20190927T112500Z
DTEND:20190927T130000Z
X-MICROSOFT-CDO-ALLDAYEVENT:FALSE
SUMMARY:FCCC Breakfast Series Program
DESCRIPTION:The United Way of Franklin County will kick-off their annual campaign with the theme of Dear Franklin County and share the impact of the work and how businesses can engage in volunteering and advocacy opportunities. Speakers include Patty Pirog\, Campaign Chair\, and Kelly Brigham-Steiner\, United Way of Franklin County's Executive Director\, talking about their new advocacy and impact initiatives.
X-ALT-DESC;FMTTYPE=text/html:<p>The <a href="http://www.uway-fc.org" target="_blank">United Way of Franklin County</a> will kick-off their annual campaign with the theme of <strong>Dear Franklin County</strong> and share the impact of the work and how businesses can engage in volunteering and advocacy opportunities. Speakers include <strong>Patty Pirog\, Campaign Chair</strong>\, and <strong>Kelly Brigham-Steiner\, United Way of Franklin County&rsquo\;s Executive Direct</strong>or\, talking about their new advocacy and impact initiatives.&nbsp\;</p>\n
LOCATION:Breakfast will be held at Franklin County Tech School located at 82 Industrial Boulevard in the Turners Falls Industrial Park.
UID:e.2182.15564
SEQUENCE:3
DTSTAMP:20260425T120720Z
URL:http://franklinccdev.chambermaster.com/events/details/fccc-breakfast-series-program-15564
END:VEVENT

END:VCALENDAR
