BEGIN:VCALENDAR
VERSION:2.0
PRODID:-//ChamberMaster//Event Calendar 2.0//EN
METHOD:PUBLISH
X-PUBLISHED-TTL:P3D
REFRESH-INTERVAL:P3D
CALSCALE:GREGORIAN
BEGIN:VEVENT
DTSTART:20200228T123000Z
DTEND:20200228T140000Z
X-MICROSOFT-CDO-ALLDAYEVENT:FALSE
SUMMARY:February Breakfast Program - I Love My Job
DESCRIPTION:Our next Breakfast Series will be held on Friday\, February 28. Since Valentine's Day falls in February\, our topic is "I Love My Job!" The panel includes Jessye Deane\, Community Action\; Steve Ellis\, Town of Montague\; Shannon Larange\, Greenfield Community College\; Pam Reipold\, F.M. Kuzmeskus\, Inc.\; and Steve Stoia\, Centennial House Bed & Breakfast. \n\n\n\nIf you would like to be part of a video that highlights all the various ways our work feeds our souls\, then please use your phone to record a 10 second message about why you love your job.  Make sure you state your name and employer and email it to Lisa ( lisa@franklincc.org  ) with the subject line I LOVE MY JOB.  We will be using these videos at the breakfast and on various other media platforms.  Let's tell the world why it's great to work in Franklin County.  Please send you video to us by February 20th.\n\n\n\nThis month's sponsor is All States Materials Group.
X-ALT-DESC;FMTTYPE=text/html:Our next Breakfast Series will be held on Friday\, February 28. Since Valentine&#39\;s Day falls in February\, our topic is <span style="color:#FF0000\;"><strong>&quot\;I Love My Job!&quot\;</strong></span> The panel includes Jessye Deane\, Community Action\; Steve Ellis\, Town of Montague\; Shannon Larange\, Greenfield Community College\; Pam Reipold\, F.M. Kuzmeskus\, Inc.\; and Steve Stoia\, Centennial House Bed &amp\; Breakfast.&nbsp\;<br />\n<br />\nIf you would like to be part of a video that highlights all the various ways our work feeds our souls\, then please use your phone to record a 10 second message about why you love your job.&nbsp\; Make sure you state your name and employer and email it to Lisa ( <a href="mailto:lisa@franklincc.org">lisa@franklincc.org</a> &nbsp\;) with the subject line I LOVE MY JOB.&nbsp\; We will be using these videos at the breakfast and on various other media platforms.&nbsp\; Let&rsquo\;s tell the world why it&rsquo\;s great to work in Franklin County.&nbsp\; Please send you video to us by February 20th.<br />\n<br />\nThis month&#39\;s sponsor is <strong>All States Materials Group.</strong><br />\n&nbsp\;
LOCATION:Terrazza Ristorante at the Country Club of Greenfield
UID:e.2182.16032
SEQUENCE:3
DTSTAMP:20260423T232800Z
URL:http://franklinccdev.chambermaster.com/events/details/february-breakfast-program-i-love-my-job-16032
END:VEVENT

END:VCALENDAR
