BEGIN:VCALENDAR
VERSION:2.0
PRODID:-//ChamberMaster//Event Calendar 2.0//EN
METHOD:PUBLISH
X-PUBLISHED-TTL:P3D
REFRESH-INTERVAL:P3D
CALSCALE:GREGORIAN
BEGIN:VEVENT
DTSTART:20200101T180000Z
DTEND:20200101T200000Z
X-MICROSOFT-CDO-ALLDAYEVENT:FALSE
SUMMARY:First Day Hike
DESCRIPTION:Enjoy a leisurely three-mile stroll down the Canalside Rail Trail and get the New Year started off on a Great Falls note. This family friendly hike follows a gentle route and provides an opportunity to discover the abundant natural\, historical\, and cultural features that make the Center and rail trail such an amazing State Park! Be prepared for cold weather: dress in layers and wear winter boots. Dogs are welcome on leash. Afterward\, enjoy a cup of hot chocolate in the Discovery Center's Great Hall. Meet at 1 p.m. in Great Hall. Hike begins at 1:15 p.m.
X-ALT-DESC;FMTTYPE=text/html:<span style="color: rgb(29\, 33\, 41)\; font-family: Helvetica\, Arial\, sans-serif\; font-size: 14px\; white-space: pre-wrap\;">Enjoy a leisurely three-mile stroll down the Canalside Rail Trail and get the New Year started off on a Great Falls note. This family friendly hike follows a gentle route and provides an opportunity to discover the abundant natural\, historical\, and cultural features that make the Center and rail trail such an amazing State Park! Be prepared for cold weather: dress in layers and wear winter boots. Dogs are welcome on leash. Afterward\, enjoy a cup of hot chocolate in the Discovery Center&rsquo\;s Great Hall. Meet at 1 p.m. in Great Hall. Hike begins at 1:15 p.m.</span>
LOCATION:Great Falls Discovery Center Avenue A\, Turners Falls
UID:e.2182.15937
SEQUENCE:3
DTSTAMP:20260422T200023Z
URL:http://franklinccdev.chambermaster.com/events/details/first-day-hike-15937
END:VEVENT

END:VCALENDAR
