BEGIN:VCALENDAR
VERSION:2.0
PRODID:-//ChamberMaster//Event Calendar 2.0//EN
METHOD:PUBLISH
X-PUBLISHED-TTL:P3D
REFRESH-INTERVAL:P3D
CALSCALE:GREGORIAN
BEGIN:VEVENT
DTSTART:20190519T170000Z
DTEND:20190519T183000Z
X-MICROSOFT-CDO-ALLDAYEVENT:FALSE
SUMMARY:Free Wild Edibles Walk at Unity Park
DESCRIPTION:Come get a peek into the abundance of spring edibles\, and maybe even have a taste! Food is everywhere\, if you know where to look...\n\nMeet at 1PM at the Unity Park Community Garden (next to the skate park)\, and we'll head off on a loop around the park and rail trail\, ending at the fish ladder (which will be open!). The route is fully paved and accessible.
X-ALT-DESC;FMTTYPE=text/html:<span style="color: rgb(29\, 33\, 41)\; font-family: Helvetica\, Arial\, sans-serif\; font-size: 14px\; white-space: pre-wrap\;">Come get a peek into the abundance of spring edibles\, and maybe even have a taste! Food is everywhere\, if you know where to look...</span><br style="color: rgb(29\, 33\, 41)\; font-family: Helvetica\, Arial\, sans-serif\; font-size: 14px\; white-space: pre-wrap\;" />\n<span style="color: rgb(29\, 33\, 41)\; font-family: Helvetica\, Arial\, sans-serif\; font-size: 14px\; white-space: pre-wrap\;">Meet at 1PM at the Unity Park Community Garden (next to the skate park)\, and we&#39\;ll head off on a loop around the park and rail trail\, ending at the fish ladder (which will be open!). The route is fully paved and accessible. </span>
LOCATION:Unity Park Turners Falls
UID:e.2182.14765
SEQUENCE:3
DTSTAMP:20260425T172052Z
URL:http://franklinccdev.chambermaster.com/events/details/free-wild-edibles-walk-at-unity-park-14765
END:VEVENT

END:VCALENDAR
