BEGIN:VCALENDAR
VERSION:2.0
PRODID:-//ChamberMaster//Event Calendar 2.0//EN
METHOD:PUBLISH
X-PUBLISHED-TTL:P3D
REFRESH-INTERVAL:P3D
CALSCALE:GREGORIAN
BEGIN:VEVENT
DTSTART:20190611T213000Z
DTEND:20190611T223000Z
X-MICROSOFT-CDO-ALLDAYEVENT:FALSE
SUMMARY:French Conversation Group
DESCRIPTION:Join our casual gathering of folks who speak French\, either fluently or who are in the process of learning. The group gathers around the big table the second Tuesday of each month. Everyone is Welcome!
X-ALT-DESC;FMTTYPE=text/html:<span style="color: rgb(29\, 33\, 41)\; font-family: Helvetica\, Arial\, sans-serif\; font-size: 14px\;">Join our casual gathering of folks who speak French\, either fluently or who are in the process of learning. The group gathers around the big table the second Tuesday of each month. Everyone is Welcome!</span>
LOCATION:Cushman Library 28 Church Street\, Bernardston
UID:e.2182.13722
SEQUENCE:3
DTSTAMP:20260425T145354Z
URL:http://franklinccdev.chambermaster.com/events/details/french-conversation-group-06-11-2019-13722
END:VEVENT

END:VCALENDAR
