BEGIN:VCALENDAR
VERSION:2.0
PRODID:-//ChamberMaster//Event Calendar 2.0//EN
METHOD:PUBLISH
X-PUBLISHED-TTL:P3D
REFRESH-INTERVAL:P3D
CALSCALE:GREGORIAN
BEGIN:VEVENT
DTSTART:20191101T180000Z
DTEND:20191109T200000Z
X-MICROSOFT-CDO-ALLDAYEVENT:FALSE
SUMMARY:Funny Kid Friendly Show
DESCRIPTION:"Now In Living Color!" Kick back with your popcorn and browse your favorite channels of clown television. New England Youth Theatre proudly presents\, "Clown TV!" A play written and directed by NEYT alum Doran Hamm\, aided by Amy Majer\, Putnam Smith\, and all of the young comedians\, "Clown TV! " is uproarious fun for the whole family.
X-ALT-DESC;FMTTYPE=text/html:&quot\;Now In Living Color!&quot\; Kick back with your popcorn and browse your favorite channels of clown television. New England Youth Theatre proudly presents\, &ldquo\;Clown TV!&rdquo\; A play written and directed by NEYT alum Doran Hamm\, aided by Amy Majer\, Putnam Smith\, and all of the young comedians\, &ldquo\;Clown TV! &ldquo\; is uproarious fun for the whole family.
LOCATION:New England Youth Theatre 100 Flat St Brattleboro VT 05301
UID:e.2182.15610
SEQUENCE:3
DTSTAMP:20260424T100843Z
URL:http://franklinccdev.chambermaster.com/events/details/funny-kid-friendly-show-15610
END:VEVENT

END:VCALENDAR
