BEGIN:VCALENDAR
VERSION:2.0
PRODID:-//ChamberMaster//Event Calendar 2.0//EN
METHOD:PUBLISH
X-PUBLISHED-TTL:P3D
REFRESH-INTERVAL:P3D
CALSCALE:GREGORIAN
BEGIN:VEVENT
DTSTART:20191129T180000Z
DTEND:20191129T193000Z
X-MICROSOFT-CDO-ALLDAYEVENT:FALSE
SUMMARY:Go Green on Black Friday
DESCRIPTION:Would you rather connect with nature and local history than compete with the Black Friday shopping crowds? Then come join us for a leisurely walk along the Canalside Rail Trail in Turners Falls. This walk is approximately 3 miles long\, on a level paved surface making for an easy stroll appropriate for adults and children ages 8 and up.  Be prepared for cold weather\, dress in layers. Wear sturdy shoes and bring water. The walk will begin at the front entrance to the Great Falls Discovery Center. Children must be accompanied by an adult. Inclement weather or icy trail conditions will cancel. Call (413) 863-3221 for more information.
X-ALT-DESC;FMTTYPE=text/html:Would you rather connect with nature and local history than compete with the Black Friday shopping crowds? Then come join us for a leisurely walk along the Canalside Rail Trail in Turners Falls. This walk is approximately 3 miles long\, on a level paved surface making for an easy stroll appropriate for adults and children ages 8 and up.&nbsp\; Be prepared for cold weather\, dress in layers. Wear sturdy shoes and bring water. The walk will begin at the front entrance to the Great Falls Discovery Center. Children must be accompanied by an adult. Inclement weather or icy trail conditions will cancel. Call (413) 863-3221 for more information.
LOCATION:Front Entrance Great Falls Discovery Center 2 Avenue A\, Turners Falls
UID:e.2182.15660
SEQUENCE:3
DTSTAMP:20260425T205330Z
URL:http://franklinccdev.chambermaster.com/events/details/go-green-on-black-friday-15660
END:VEVENT

END:VCALENDAR
