BEGIN:VCALENDAR
VERSION:2.0
PRODID:-//ChamberMaster//Event Calendar 2.0//EN
METHOD:PUBLISH
X-PUBLISHED-TTL:P3D
REFRESH-INTERVAL:P3D
CALSCALE:GREGORIAN
BEGIN:VEVENT
DTSTART:20190527T140000Z
DTEND:20190527T153000Z
X-MICROSOFT-CDO-ALLDAYEVENT:FALSE
SUMMARY:Greenfield Memorial Day
DESCRIPTION:The parade will form in the Greenfield Middle School parkign lot at 9:30 a.m. The route is: south on Federal Street for services at the Federal Street Cememtery\, then south on Federal\, east on Church Street\, south on Franklin Street and west on Main Street. Stops at Greenfield Library\, Town Common and Veteran's Mall. The guest speaker will be Christopher Demars retired segeant major and veterans service officer.
X-ALT-DESC;FMTTYPE=text/html:The parade will form in the Greenfield Middle School parkign lot at 9:30 a.m. The route is: south on Federal Street for services at the Federal Street Cememtery\, then south on Federal\, east on Church Street\, south on Franklin Street and west on Main Street. Stops at Greenfield Library\, Town Common and Veteran&#39\;s Mall. The guest speaker will be Christopher Demars retired segeant major and veterans service officer.
LOCATION:Greenfield
UID:e.2182.15062
SEQUENCE:3
DTSTAMP:20260425T230525Z
URL:http://franklinccdev.chambermaster.com/events/details/greenfield-memorial-day-15062
END:VEVENT

END:VCALENDAR
