BEGIN:VCALENDAR
VERSION:2.0
PRODID:-//ChamberMaster//Event Calendar 2.0//EN
METHOD:PUBLISH
X-PUBLISHED-TTL:P3D
REFRESH-INTERVAL:P3D
CALSCALE:GREGORIAN
BEGIN:VEVENT
DTSTART:20190508T160000Z
DTEND:20190508T200000Z
X-MICROSOFT-CDO-ALLDAYEVENT:FALSE
SUMMARY:Half Day Discovery Day: Self–guided Games Day!
DESCRIPTION:Gill-Montague school students get a half day off. Why not discover something new? Join us in a self guided game day! Meet at the Welcome Desk to grab an outdoor bike path B-I-N-G-O sheet or an indoor scavenger hunt for animals in the Watershed. Test your conservation habit forming powers with a memory game and more! For ages 6 to 12\, accompanied by an adult.
X-ALT-DESC;FMTTYPE=text/html:Gill-Montague school students get a half day off. Why not discover something new? Join us in a self&ndash\;guided game day! Meet at the Welcome Desk to grab an outdoor bike path B-I-N-G-O sheet or an indoor scavenger hunt for animals in the Watershed. Test your conservation habit forming powers with a memory game and more! For ages 6 to 12\, accompanied by an adult.
LOCATION:Great Falls Discovery Center 2 Avenue A\, Turners Falls
UID:e.2182.15036
SEQUENCE:3
DTSTAMP:20260425T034010Z
URL:http://franklinccdev.chambermaster.com/events/details/half-day-discovery-day-self-guided-games-day-15036
END:VEVENT

END:VCALENDAR
