BEGIN:VCALENDAR
VERSION:2.0
PRODID:-//ChamberMaster//Event Calendar 2.0//EN
METHOD:PUBLISH
X-PUBLISHED-TTL:P3D
REFRESH-INTERVAL:P3D
CALSCALE:GREGORIAN
BEGIN:VEVENT
DTSTART:20200823T203000Z
DTEND:20200823T234500Z
X-MICROSOFT-CDO-ALLDAYEVENT:FALSE
SUMMARY:Harvest Supper Celebration
DESCRIPTION:Presented by Stone Soup Cafe. A locally-sourced chef's dinner\, online silent auction\, and live-streamed concert with Grammy-nominated local musician Seth Glier. Join us for 1\, 2\, or all 3 events. All proceeds benefit The Stone Sop Cafe.\n\n4:30-6:00 p.m. Chef's Dinner featuring past favorites made from local ingredients such as turkey-peach salad\, wheatberry-blueberry salad\, pork kapusta\, and a local fruit crisp topped with whipped cream. Vegetarian\, vegan and gluten-free options available.\n\n\n\n6 - 7 p.m. - Online Silent Auction: Opens August 20 for viewing and bidding: charityauction.bid/HarvestSupperCelebration\n\n\n\n7:00-7:45 p.m.:  Seth Glier Live-Streamed Concert. Tickets $25\, viewers will receive a link to the live-streamed concert via email
X-ALT-DESC;FMTTYPE=text/html:Presented by Stone Soup Cafe. A locally-sourced chef&#39\;s dinner\, online silent auction\, and live-streamed concert with Grammy-nominated local musician Seth Glier. Join us for 1\, 2\, or all 3 events. All proceeds benefit The Stone Sop Cafe.<br />\n4:30-6:00 p.m. Chef&#39\;s Dinner featuring past favorites made from local ingredients such as turkey-peach salad\, wheatberry-blueberry salad\, pork kapusta\, and a local fruit crisp topped with whipped cream. Vegetarian\, vegan and gluten-free options available.<br />\n<br />\n6 - 7 p.m. - Online Silent Auction: Opens August 20 for viewing and bidding: <a href="https://event.auctria.com/99ddd88c-8817-4b62-8585-065929430dd9/" target="_blank">charityauction.bid/HarvestSupperCelebration</a><br />\n<br />\n7:00-7:45 p.m.:&nbsp\; Seth Glier Live-Streamed Concert. Tickets $25\, viewers will receive a link to the live-streamed concert via email
LOCATION:Curbside pickup on the Greenfield Town Common.
UID:e.2182.17650
SEQUENCE:3
DTSTAMP:20260422T193836Z
URL:http://franklinccdev.chambermaster.com/events/details/harvest-supper-celebration-17650
END:VEVENT

END:VCALENDAR
