BEGIN:VCALENDAR
VERSION:2.0
PRODID:-//ChamberMaster//Event Calendar 2.0//EN
METHOD:PUBLISH
X-PUBLISHED-TTL:P3D
REFRESH-INTERVAL:P3D
CALSCALE:GREGORIAN
BEGIN:VEVENT
DTSTART:20210508T163000Z
DTEND:20210508T200000Z
X-MICROSOFT-CDO-ALLDAYEVENT:FALSE
SUMMARY:Help Paint Bee Crosswalk
DESCRIPTION:Painters Wanted! Bring paintbrushes (& kneepads) to refresh our welcome for BEE FEST.\n\nThanks to Sherwin Williams\, Arch St\, Greenfield for donating paint!\n\nContact Sandy Thomas if you can help.\n\nrsthomas75@gmail.com\n\nRaindate - May 15.
X-ALT-DESC;FMTTYPE=text/html:Painters Wanted! Bring paintbrushes (&amp\; kneepads) to refresh our welcome for BEE FEST.<br />\nThanks to Sherwin Williams\, Arch St\, Greenfield for donating paint!<br />\nContact Sandy Thomas if you can help.<br />\n<a href="mailto:rsthomas75@gmail.com">rsthomas75@gmail.com</a><br />\nRaindate - May 15.
LOCATION:City Common area Court Square\, Greenfield
UID:e.2182.17914
SEQUENCE:3
DTSTAMP:20260419T173552Z
URL:http://franklinccdev.chambermaster.com/events/details/help-paint-bee-crosswalk-17914
END:VEVENT

END:VCALENDAR
