BEGIN:VCALENDAR
VERSION:2.0
PRODID:-//ChamberMaster//Event Calendar 2.0//EN
METHOD:PUBLISH
X-PUBLISHED-TTL:P3D
REFRESH-INTERVAL:P3D
CALSCALE:GREGORIAN
BEGIN:VEVENT
DTSTART:20210807T160000Z
DTEND:20210807T180000Z
X-MICROSOFT-CDO-ALLDAYEVENT:FALSE
SUMMARY:Ice Cream Social
DESCRIPTION:Ice Cream Social\, featuring Snow's Ice Cream! Happy Birthday to Mary P. Wells Smith!
X-ALT-DESC;FMTTYPE=text/html:Ice Cream Social\, featuring Snow&#39\;s Ice Cream! Happy Birthday to Mary P. Wells Smith!<br />\n&nbsp\;
LOCATION:Historical Society of Greenfield 43 Church Street\, Greenfield\, MA
UID:e.2182.18330
SEQUENCE:3
DTSTAMP:20260420T130117Z
URL:http://franklinccdev.chambermaster.com/events/details/ice-cream-social-18330
END:VEVENT

END:VCALENDAR
