BEGIN:VCALENDAR
VERSION:2.0
PRODID:-//ChamberMaster//Event Calendar 2.0//EN
METHOD:PUBLISH
X-PUBLISHED-TTL:P3D
REFRESH-INTERVAL:P3D
CALSCALE:GREGORIAN
BEGIN:VEVENT
DTSTART:20190705T200000Z
DTEND:20190706T023000Z
X-MICROSOFT-CDO-ALLDAYEVENT:FALSE
SUMMARY:Independence Day Community Celebration and Fireworks
DESCRIPTION:Come one\, come all to the annual Independence Day Celebration.
X-ALT-DESC;FMTTYPE=text/html:Come one\, come all to the annual Independence Day Celebration.&nbsp\;
LOCATION:Beacon Field in Greenfield.
UID:e.2182.14919
SEQUENCE:3
DTSTAMP:20260425T185857Z
URL:http://franklinccdev.chambermaster.com/events/details/independence-day-community-celebration-and-fireworks-14919
END:VEVENT

END:VCALENDAR
