BEGIN:VCALENDAR
VERSION:2.0
PRODID:-//ChamberMaster//Event Calendar 2.0//EN
METHOD:PUBLISH
X-PUBLISHED-TTL:P3D
REFRESH-INTERVAL:P3D
CALSCALE:GREGORIAN
BEGIN:VEVENT
DTSTART:20201113T150000Z
DTEND:20201113T210000Z
X-MICROSOFT-CDO-ALLDAYEVENT:FALSE
SUMMARY:Interpreted Broom Making
DESCRIPTION:Step inside the History Workshop to learn about an important part of Deerfield's history\, Broom Making! On weekends during the Fall visitors can see reproduction equipment and supplies used in traditional Connecticut River Valley broom making. Museum staff will interpret and demonstrate the process of broom making.
X-ALT-DESC;FMTTYPE=text/html:Step inside the History Workshop to learn about an important part of Deerfield&rsquo\;s history\, Broom Making! On weekends during the Fall visitors can see reproduction equipment and supplies used in traditional Connecticut River Valley broom making. Museum staff will interpret and demonstrate the process of broom making.&nbsp\;
LOCATION:Historic Deerfield 80 Old Main Street\, Deerfield MA
UID:e.2182.17706
SEQUENCE:3
DTSTAMP:20260421T004942Z
URL:http://franklinccdev.chambermaster.com/events/details/interpreted-broom-making-17706
END:VEVENT

END:VCALENDAR
