BEGIN:VCALENDAR
VERSION:2.0
PRODID:-//ChamberMaster//Event Calendar 2.0//EN
METHOD:PUBLISH
X-PUBLISHED-TTL:P3D
REFRESH-INTERVAL:P3D
CALSCALE:GREGORIAN
BEGIN:VEVENT
DTSTART:20200207T153000Z
DTEND:20200207T163000Z
X-MICROSOFT-CDO-ALLDAYEVENT:FALSE
SUMMARY:Kidleidoscope Story Hour
DESCRIPTION:Come learn about our wildlife neighbors who share our home in the Connecticut River Watershed. Program includes a story\, activities\, and a craft to introduce young children to wildlife along the river. For ages 3-6\, accompanied by an adult. Siblings and friends welcome.  Join us for preschool yoga afterwards! \n\n2/7: Bear\; 2/14: Porcupines\; 2/21: Rabbits\; 2/28: Coyotes
X-ALT-DESC;FMTTYPE=text/html:Come learn about our wildlife neighbors who share our home in the Connecticut River Watershed. Program includes a story\, activities\, and a craft to introduce young children to wildlife along the river. For ages 3-6\, accompanied by an adult. Siblings and friends welcome.&nbsp\; Join us for preschool yoga afterwards!&nbsp\;<br />\n2/7: Bear\; 2/14: Porcupines\; 2/21: Rabbits\; 2/28: Coyotes
LOCATION:Great Falls Discovery Center 2 Avenue A\, Turners Falls
UID:e.2182.16188
SEQUENCE:3
DTSTAMP:20260423T060918Z
URL:http://franklinccdev.chambermaster.com/events/details/kidleidoscope-story-hour-16188
END:VEVENT

END:VCALENDAR
