BEGIN:VCALENDAR
VERSION:2.0
PRODID:-//ChamberMaster//Event Calendar 2.0//EN
METHOD:PUBLISH
X-PUBLISHED-TTL:P3D
REFRESH-INTERVAL:P3D
CALSCALE:GREGORIAN
BEGIN:VEVENT
DTSTART:20200306T153000Z
DTEND:20200306T163000Z
X-MICROSOFT-CDO-ALLDAYEVENT:FALSE
SUMMARY:Kidleidoscope Story Hour
DESCRIPTION:Come learn about our wildlife neighbors who share our home in the Connecticut River Watershed. Program includes a story\, activities\, and a craft to introduce young children to wildlife along the river. For ages 3-6\, accompanied by an adult. Siblings and friends welcome. \n\n3/6: Who Lives in a Tree?\; 3/13: Chipmunks\; 3/20: Salamanders
X-ALT-DESC;FMTTYPE=text/html:Come learn about our wildlife neighbors who share our home in the Connecticut River Watershed. Program includes a story\, activities\, and a craft to introduce young children to wildlife along the river. For ages 3-6\, accompanied by an adult. Siblings and friends welcome.&nbsp\;<br />\n<strong>3/6: Who Lives in a Tree?\; 3/13: Chipmunks\; 3/20: Salamanders</strong>
LOCATION:Great Falls Discovery Center 2 Avenue A\, Turners Falls
UID:e.2182.17211
SEQUENCE:3
DTSTAMP:20260423T183247Z
URL:http://franklinccdev.chambermaster.com/events/details/kidleidoscope-story-hour-17211
END:VEVENT

END:VCALENDAR
