BEGIN:VCALENDAR
VERSION:2.0
PRODID:-//ChamberMaster//Event Calendar 2.0//EN
METHOD:PUBLISH
X-PUBLISHED-TTL:P3D
REFRESH-INTERVAL:P3D
CALSCALE:GREGORIAN
BEGIN:VEVENT
DTSTART:20211120T140000Z
DTEND:20211120T203000Z
X-MICROSOFT-CDO-ALLDAYEVENT:FALSE
SUMMARY:Little Drummer Craft Fair
DESCRIPTION:The Little Drummer Craft Fair\, held annually on the Saturday prior to Thanksgiving\, supports the students of Franklin County Technical School.\n\nThis juried craft fair features artists and craftspeople from throughout the Pioneer Valley and beyond\, presenting their unique handcrafted products. Artists also attend from Connecticut\, Vermont\, New Hampshire and Maine.\n\n\n\nCrafts include woodworking and carved wood products\, fine gold and silver jewelry\, quilts\, oil paintings\, soaps\, handwoven baskets\, herbal crafts\, sewn gifts\, dried florals\, fudge\, gifts for your pets\, handbags\, jewelry\, greeting cards\, felted products\, soft toys\, cards and other paper products\, fine photography\, knits\, crochet and other fiber arts\, and much more! Our goal is to have unique handcrafted work presented at the show for you each year!
X-ALT-DESC;FMTTYPE=text/html:<span style="color: rgb(5\, 5\, 5)\; font-family: &quot\;Segoe UI Historic&quot\;\, &quot\;Segoe UI&quot\;\, Helvetica\, Arial\, sans-serif\; font-size: 15px\;">The Little Drummer Craft Fair\, held annually on the Saturday prior to Thanksgiving\, supports the students of Franklin County Technical School.</span>\n<div class="kvgmc6g5 cxmmr5t8 oygrvhab hcukyx3x c1et5uql" style="overflow-wrap: break-word\; margin: 0px\; font-family: &quot\;Segoe UI Historic&quot\;\, &quot\;Segoe UI&quot\;\, Helvetica\, Arial\, sans-serif\; color: rgb(5\, 5\, 5)\; font-size: 15px\; animation-name: none !important\; transition-property: none !important\;">\n<div dir="auto" style="font-family: inherit\; animation-name: none !important\; transition-property: none !important\;">This juried craft fair features artists and craftspeople from throughout the Pioneer Valley and beyond\, presenting their unique handcrafted products. Artists also attend from Connecticut\, Vermont\, New Hampshire and Maine.</div>\n</div>\n\n<div class="o9v6fnle cxmmr5t8 oygrvhab hcukyx3x c1et5uql" style="overflow-wrap: break-word\; margin: 0.5em 0px 0px\; font-family: &quot\;Segoe UI Historic&quot\;\, &quot\;Segoe UI&quot\;\, Helvetica\, Arial\, sans-serif\; color: rgb(5\, 5\, 5)\; font-size: 15px\; animation-name: none !important\; transition-property: none !important\;">\n<div dir="auto" style="font-family: inherit\; animation-name: none !important\; transition-property: none !important\;">Crafts include woodworking and carved wood products\, fine gold and silver jewelry\, quilts\, oil paintings\, soaps\, handwoven baskets\, herbal crafts\, sewn gifts\, dried florals\, fudge\, gifts for your pets\, handbags\, jewelry\, greeting cards\, felted products\, soft toys\, cards and other paper products\, fine photography\, knits\, crochet and other fiber arts\, and much more! Our goal is to have unique handcrafted work presented at the show for you each year!</div>\n</div>\n
LOCATION:Franklin County Tech School 82 Industrial Boulevard\, Turners Falls
UID:e.2182.18398
SEQUENCE:3
DTSTAMP:20260423T063338Z
URL:http://franklinccdev.chambermaster.com/events/details/little-drummer-craft-fair-18398
END:VEVENT

END:VCALENDAR
