BEGIN:VCALENDAR
VERSION:2.0
PRODID:-//ChamberMaster//Event Calendar 2.0//EN
METHOD:PUBLISH
X-PUBLISHED-TTL:P3D
REFRESH-INTERVAL:P3D
CALSCALE:GREGORIAN
BEGIN:VEVENT
DTSTART:20200220T170000Z
DTEND:20200220T180000Z
X-MICROSOFT-CDO-ALLDAYEVENT:FALSE
SUMMARY:Maps and Legends
DESCRIPTION:You've probably seen a map of the world\, a map of your country\, and a map of a shopping mall where you were trying to find the food court. But have you ever seen a map where California is an island\, where Mars has oceans\, or where US states have names like Cascade and Cochise? During this brown-bag lunch learning session in the Great Hall\, learn why mapmakers don't always get things right\, and to try making some maps of your own. For teenagers and adults.
X-ALT-DESC;FMTTYPE=text/html:You&rsquo\;ve probably seen a map of the world\, a map of your country\, and a map of a shopping mall where you were trying to find the food court. But have you ever seen a map where California is an island\, where Mars has oceans\, or where US states have names like Cascade and Cochise? During this brown-bag lunch learning session in the Great Hall\, learn why mapmakers don&rsquo\;t always get things right\, and to try making some maps of your own. For teenagers and adults.
LOCATION:Great Falls Discovery Center 2 Avenue A\, Turners Falls
UID:e.2182.16197
SEQUENCE:3
DTSTAMP:20260423T221453Z
URL:http://franklinccdev.chambermaster.com/events/details/maps-and-legends-16197
END:VEVENT

END:VCALENDAR
