BEGIN:VCALENDAR
VERSION:2.0
PRODID:-//ChamberMaster//Event Calendar 2.0//EN
METHOD:PUBLISH
X-PUBLISHED-TTL:P3D
REFRESH-INTERVAL:P3D
CALSCALE:GREGORIAN
BEGIN:VEVENT
DTSTART:20210531T140000Z
DTEND:20210531T150000Z
X-MICROSOFT-CDO-ALLDAYEVENT:FALSE
SUMMARY:Memorial Day in Shelburne
DESCRIPTION:Veteran of Foreign Wars Post 8503 and the Shelburne Memorial Day Committee will hold a ceremony at Arms Cemetery. Attendees will march into the cemetery to the Civil War monument. "Taps" will be performed and there will be a gun salute in honor of Shelburne veterans who lost their lives. There will also be a reading of the Gettysburg Address and several speakers\, and a wreath will be placed.
X-ALT-DESC;FMTTYPE=text/html:Veteran of Foreign Wars Post 8503 and the Shelburne Memorial Day Committee will hold a ceremony at Arms Cemetery. Attendees will march into the cemetery to the Civil War monument. &quot\;Taps&quot\; will be performed and there will be a gun salute in honor of Shelburne veterans who lost their lives. There will also be a reading of the Gettysburg Address and several speakers\, and a wreath will be placed.
LOCATION:
UID:e.2182.18041
SEQUENCE:3
DTSTAMP:20260421T193042Z
URL:http://franklinccdev.chambermaster.com/events/details/memorial-day-in-shelburne-18041
END:VEVENT

END:VCALENDAR
