BEGIN:VCALENDAR
VERSION:2.0
PRODID:-//ChamberMaster//Event Calendar 2.0//EN
METHOD:PUBLISH
X-PUBLISHED-TTL:P3D
REFRESH-INTERVAL:P3D
CALSCALE:GREGORIAN
BEGIN:VEVENT
DTSTART:20210722T000000Z
DTEND:20210722T013000Z
X-MICROSOFT-CDO-ALLDAYEVENT:FALSE
SUMMARY:Memories and Dreams
DESCRIPTION:Double Edge Theatre is proud to announce DE's 20th Summer Spectacle Memories and Dreams\, another performance created for the time of Covid\, outdoors\, safe\, and with all of DE?s traveling adventures and epic imagination. The spectacle invites visitors to journey through a mosaic of myths and imaginative flight on DE?s Farm as we reinvigorate our memories and dream all possible futures together. Directed by Jeremy Louise Eaton and Stacy Klein and created with the DE Ensemble.
X-ALT-DESC;FMTTYPE=text/html:Double Edge Theatre is proud to announce DE's 20th Summer Spectacle Memories and Dreams\, another performance created for the time of Covid\, outdoors\, safe\, and with all of DE?s traveling adventures and epic imagination. The spectacle invites visitors to journey through a mosaic of myths and imaginative flight on DE?s Farm as we reinvigorate our memories and dream all possible futures together. Directed by Jeremy Louise Eaton and Stacy Klein and created with the DE Ensemble.
LOCATION:Double Edge Theatre 948 Conway Road\, Ashfield\, MA
UID:e.2182.17930
SEQUENCE:3
DTSTAMP:20260421T181147Z
URL:http://franklinccdev.chambermaster.com/events/details/memories-and-dreams-17930
END:VEVENT

END:VCALENDAR
