BEGIN:VCALENDAR
VERSION:2.0
PRODID:-//ChamberMaster//Event Calendar 2.0//EN
METHOD:PUBLISH
X-PUBLISHED-TTL:P3D
REFRESH-INTERVAL:P3D
CALSCALE:GREGORIAN
BEGIN:VEVENT
DTSTART;VALUE=DATE:20190905
DTEND;VALUE=DATE:20191005
TRANSP:TRANSPARENT
X-MICROSOFT-CDO-ALLDAYEVENT:TRUE
SUMMARY:Monthly Breakfast Series Package
DESCRIPTION:September is the time to purchase a breakfast series package for the next 10 programs. You'll be registered for all the breakfast programs\, including the holiday breakfast and May luncheon. You'll get an email reminder several days before the program. If you're unable to attend you can transfer your registration to someone else\, or have two attendees at another program. The cost is $155.00 per package. And if you'd like to add all of the chamber's Business After Hours you can do that for an additional $80.00.\n\n \n\nSave yourself the time of registering and some cash.
X-ALT-DESC;FMTTYPE=text/html:<div style="color: rgb(64\, 63\, 66)\; font-family: Helvetica\, Arial\, sans-serif\; font-size: 12px\; white-space: pre-wrap\;"><span style="font-size:14px\;">September is the time to purchase a breakfast series package for the next 10 programs. You&#39\;ll be registered for all the breakfast programs\, including the holiday breakfast and May luncheon. You&#39\;ll get an email reminder several days before the program. If you&#39\;re unable to attend you can transfer your registration to someone else\, or have two attendees at another program. The cost is $155.00 per package. And if you&#39\;d like to add all of the chamber&#39\;s Business After Hours you can do that for an additional $80.00.</span></div>\n\n<div style="color: rgb(64\, 63\, 66)\; font-family: Helvetica\, Arial\, sans-serif\; font-size: 12px\; white-space: pre-wrap\;">&nbsp\;</div>\n\n<div style="color: rgb(64\, 63\, 66)\; font-family: Helvetica\, Arial\, sans-serif\; font-size: 12px\; white-space: pre-wrap\;"><span style="font-size:14px\;">Save yourself the time of registering and some cash.</span></div>\n
LOCATION:
UID:e.2182.15568
SEQUENCE:3
DTSTAMP:20260424T164443Z
URL:http://franklinccdev.chambermaster.com/events/details/monthly-breakfast-series-package-15568
END:VEVENT

END:VCALENDAR
