BEGIN:VCALENDAR
VERSION:2.0
PRODID:-//ChamberMaster//Event Calendar 2.0//EN
METHOD:PUBLISH
X-PUBLISHED-TTL:P3D
REFRESH-INTERVAL:P3D
CALSCALE:GREGORIAN
BEGIN:VEVENT
DTSTART:20190209T132500Z
DTEND:20190209T160000Z
X-MICROSOFT-CDO-ALLDAYEVENT:FALSE
SUMMARY:Pancake Breakfast
DESCRIPTION:Profits to support the Deacons Fund.\n\nMenu:  buttermilk pancakes with real maple syrup\, sausage links\, ham slices\, and beverages.\n\nVarious drawings will be held.
X-ALT-DESC;FMTTYPE=text/html:Profits to support the Deacons Fund.<br />\nMenu:&nbsp\; buttermilk pancakes with real maple syrup\, sausage links\, ham slices\, and beverages.<br />\nVarious drawings will be held.
LOCATION:Montague Congregational Church 4 North Street\, Montague
UID:e.2182.14480
SEQUENCE:3
DTSTAMP:20260425T174155Z
URL:http://franklinccdev.chambermaster.com/events/details/pancake-breakfast-14480
END:VEVENT

END:VCALENDAR
