BEGIN:VCALENDAR
VERSION:2.0
PRODID:-//ChamberMaster//Event Calendar 2.0//EN
METHOD:PUBLISH
X-PUBLISHED-TTL:P3D
REFRESH-INTERVAL:P3D
CALSCALE:GREGORIAN
BEGIN:VEVENT
DTSTART:20200703T130000Z
DTEND:20200703T210000Z
X-MICROSOFT-CDO-ALLDAYEVENT:FALSE
SUMMARY:Pie Sale
DESCRIPTION:Pies available. Drive thru set-up. Call ahead (413) 773-7624.\n\nApple - $12\n\nBlueberry - $13\n\nRhubarb - $14\n\nStrawberry Rhubarb - $14\n\nCash or local check (payable to Robbins Church)
X-ALT-DESC;FMTTYPE=text/html:Pies available. Drive thru set-up. Call ahead (413) 773-7624.<br />\nApple - $12<br />\nBlueberry - $13<br />\nRhubarb - $14<br />\nStrawberry Rhubarb - $14<br />\nCash or local check (payable to Robbins Church)
LOCATION:Robbins Memorial Church 55 Munson Street Greenfield MA 01301
UID:e.2182.17633
SEQUENCE:3
DTSTAMP:20260422T030605Z
URL:http://franklinccdev.chambermaster.com/events/details/pie-sale-17633
END:VEVENT

END:VCALENDAR
