BEGIN:VCALENDAR
VERSION:2.0
PRODID:-//ChamberMaster//Event Calendar 2.0//EN
METHOD:PUBLISH
X-PUBLISHED-TTL:P3D
REFRESH-INTERVAL:P3D
CALSCALE:GREGORIAN
BEGIN:VEVENT
DTSTART:20190608T160000Z
DTEND:20190608T220000Z
X-MICROSOFT-CDO-ALLDAYEVENT:FALSE
SUMMARY:Pints in the Park!
DESCRIPTION:It's the 3rd annual Pints in the Park! Join us for an afternoon of live music\, tasty food and of course lots of local brews from The People's Pint! Advance tickets are just $10! Music lineup! 12:00 - 1:00 Moxie 1:15 - 2:15 Ali Kat and the Revelators 2:30 - 3:30 Hevvi Synthia 3:45 - 4:45 Buddy McEarns Band 5:00 - 6:00 Squash Blossom Food from The People's Pint and Bart's Ice Cream Beer from The People's Pint! BIKING AND PARKING INFORMATION: Bring your bike! There are plenty of places to lock it up. There will be no parking available in the Miles St. lot next to the Energy Park. We strongly encourage you to park in the Olive St. Parking Garage or the Davis/Chapman st. lot behind Wilson's. It is a ten hour parking lot with plenty of spots\, and only a few minutes walk away. Thanks!
X-ALT-DESC;FMTTYPE=text/html:It&#39\;s the 3rd annual Pints in the Park! Join us for an afternoon of live music\, tasty food and of course lots of local brews from The People&#39\;s Pint! Advance tickets are just $10! Music lineup! 12:00 - 1:00 Moxie 1:15 - 2:15 Ali Kat and the Revelators 2:30 - 3:30 Hevvi Synthia 3:45 - 4:45 Buddy McEarns Band 5:00 - 6:00 Squash Blossom Food from The People&#39\;s Pint and Bart&#39\;s Ice Cream Beer from The People&#39\;s Pint! BIKING AND PARKING INFORMATION: Bring your bike! There are plenty of places to lock it up. There will be no parking available in the Miles St. lot next to the Energy Park. We strongly encourage you to park in the Olive St. Parking Garage or the Davis/Chapman st. lot behind Wilson&#39\;s. It is a ten hour parking lot with plenty of spots\, and only a few minutes walk away. Thanks!
LOCATION:Greenfield Energy Park 50 Miles St Greenfield
UID:e.2182.14968
SEQUENCE:3
DTSTAMP:20260425T002014Z
URL:http://franklinccdev.chambermaster.com/events/details/pints-in-the-park-14968
END:VEVENT

END:VCALENDAR
