BEGIN:VCALENDAR
VERSION:2.0
PRODID:-//ChamberMaster//Event Calendar 2.0//EN
METHOD:PUBLISH
X-PUBLISHED-TTL:P3D
REFRESH-INTERVAL:P3D
CALSCALE:GREGORIAN
BEGIN:VEVENT
DTSTART:20190615T170000Z
DTEND:20190615T190000Z
X-MICROSOFT-CDO-ALLDAYEVENT:FALSE
SUMMARY:Pizazz Dance Studio Turns Back Time Recital 2019
DESCRIPTION:Come watch these amazing dancers dance to the jamz you busted out to on cassettes!!
X-ALT-DESC;FMTTYPE=text/html:<span style="color: rgb(29\, 33\, 41)\; font-family: Helvetica\, Arial\, sans-serif\; font-size: 14px\; white-space: pre-wrap\;">Come watch these amazing dancers dance to the jamz you busted out to on cassettes!! </span>
LOCATION:Greenfield High School 21 Barr Avenue\, Greenfield
UID:e.2182.14906
SEQUENCE:3
DTSTAMP:20260425T002841Z
URL:http://franklinccdev.chambermaster.com/events/details/pizazz-dance-studio-turns-back-time-recital-2019-14906
END:VEVENT

END:VCALENDAR
