BEGIN:VCALENDAR
VERSION:2.0
PRODID:-//ChamberMaster//Event Calendar 2.0//EN
METHOD:PUBLISH
X-PUBLISHED-TTL:P3D
REFRESH-INTERVAL:P3D
CALSCALE:GREGORIAN
BEGIN:VEVENT
DTSTART:20191206T221500Z
DTEND:20191207T010000Z
X-MICROSOFT-CDO-ALLDAYEVENT:FALSE
SUMMARY:Polar Express Pajama Party
DESCRIPTION:The boy from the train will read the Polar Express book to all attending\, after which Santa and Mrs. Claus will hand out the first gift of Christmas to all kids in attendance with photos with Santa\, Mrs. Claus\, The Conductor and The Engineer to follow.\n\n\n\nEach Traveler will recieve (1) FREE Cookie and Hot Chocolate!\n\n\n\nLetters to Santa\, Games and Activities for kids!\n\n\n\nFREE Holiday Face Painting!\n\n\n\nSanta will deliver the "First Gift of Chritsmas" Bell to ALL Kids!\n\n\n\nPhotos with Santa and Mrs. Claus AFTER his arrival!\n\n\n\nAges 10 and Under
X-ALT-DESC;FMTTYPE=text/html:The boy from the train will read the Polar Express book to all attending\, after which Santa and Mrs. Claus will hand out the first gift of Christmas to all kids in attendance with photos with Santa\, Mrs. Claus\, The Conductor and The Engineer to follow.<br />\n<br />\nEach Traveler will recieve (1) FREE Cookie and Hot Chocolate!<br />\n<br />\nLetters to Santa\, Games and Activities for kids!<br />\n<br />\nFREE Holiday Face Painting!<br />\n<br />\nSanta will deliver the &quot\;First Gift of Chritsmas&quot\; Bell to ALL Kids!<br />\n<br />\nPhotos with Santa and Mrs. Claus AFTER his arrival!<br />\n<br />\nAges 10 and Under
LOCATION:Franklin County Tech School Assembly Hall Industrial Boulevard\, Turners Falls
UID:e.2182.15918
SEQUENCE:3
DTSTAMP:20260425T034007Z
URL:http://franklinccdev.chambermaster.com/events/details/polar-express-pajama-party-15918
END:VEVENT

END:VCALENDAR
