BEGIN:VCALENDAR
VERSION:2.0
PRODID:-//ChamberMaster//Event Calendar 2.0//EN
METHOD:PUBLISH
X-PUBLISHED-TTL:P3D
REFRESH-INTERVAL:P3D
CALSCALE:GREGORIAN
BEGIN:VEVENT
DTSTART:20190203T210000Z
DTEND:20190203T223000Z
X-MICROSOFT-CDO-ALLDAYEVENT:FALSE
SUMMARY:Reading and Writing Work That Inspires
DESCRIPTION:In this class we will spend some time reading pieces of writing from people of all walks of life about activism and staying excited about taking action and being an organizer. Then we will work on how to write our own pieces that uplift either only for ourselves\, or to share with others. No writing experience necessary! This class will be especially helpful to anyone who is feeling uninspired and disappointed by the state of the world\, and anyone who wants to feel confident writing about hope. https://truthschool.org/reading-and-writing-work-that-inspires/
X-ALT-DESC;FMTTYPE=text/html:In this class we will spend some time reading pieces of writing from people of all walks of life about activism and staying excited about taking action and being an organizer. Then we will work on how to write our own pieces that uplift&mdash\;either only for ourselves\, or to share with others. No writing experience necessary! This class will be especially helpful to anyone who is feeling uninspired and disappointed by the state of the world\, and anyone who wants to feel confident writing about hope. https://truthschool.org/reading-and-writing-work-that-inspires/
LOCATION:Greenfield Library LeVanway Room Main Street\, Greenfield
UID:e.2182.14506
SEQUENCE:3
DTSTAMP:20260425T155352Z
URL:http://franklinccdev.chambermaster.com/events/details/reading-and-writing-work-that-inspires-14506
END:VEVENT

END:VCALENDAR
